BEGIN:VCALENDAR
VERSION:2.0
PRODID:-//eventon.com NONSGML v1.0//EN
BEGIN:VEVENT
UID:69e7356e0d86b
DTSTAMP:20260421T102934
DTSTART:20251217T110000Z
DTEND:20251217T130000Z
TZID:UTC
LOCATION:Mobilitea Borbeck Butzweg 5
SUMMARY:Mobilitea Borbeck
DESCRIPTION: Mobilitea Borbeck\nhttps://mobilitea.de/standorte/mobilitea-bochold/var/ri-9.l-L1
URL:https://mobilitea.de/standorte/mobilitea-bochold/var/ri-9.l-L1
END:VEVENT
END:VCALENDAR