BEGIN:VCALENDAR
VERSION:2.0
PRODID:-//eventon.com NONSGML v1.0//EN
BEGIN:VEVENT
UID:69ed42fc4ad71
DTSTAMP:20260426T004100
DTSTART:20261228T150000Z
DTEND:20261228T170000Z
TZID:UTC
LOCATION:Ostviertel Vorrathstraße 27
SUMMARY:Mobilitea Ostviertel
DESCRIPTION: Mobilitea Ostviertel\nhttps://mobilitea.de/standorte/sudostviertel/var/ri-41.l-L1
URL:https://mobilitea.de/standorte/sudostviertel/var/ri-41.l-L1
END:VEVENT
END:VCALENDAR