BEGIN:VCALENDAR
VERSION:2.0
PRODID:-//eventon.com NONSGML v1.0//EN
BEGIN:VEVENT
UID:69ea537cdcfcd
DTSTAMP:20260423T191436
DTSTART:20270114T150000Z
DTEND:20270114T180000Z
TZID:UTC
LOCATION:Altendorf Christuskirchplatz oder Spielplatz hinter der Kirche
SUMMARY:Mobilitea Altendorf
DESCRIPTION: Mobilitea Altendorf\nhttps://mobilitea.de/standorte/altendorf/var/ri-23.l-L1
URL:https://mobilitea.de/standorte/altendorf/var/ri-23.l-L1
END:VEVENT
END:VCALENDAR